BEGIN:VCALENDAR
PRODID:-//kirchenweb.ch gmbh//veranstaltungsausgabe v2.0//DE
VERSION:2.0
METHOD:PUBLISH
BEGIN:VEVENT
DTSTART:20260603T123000Z
DTEND:20260603T143000Z
LOCATION:Chilestöckli Trasadingen\, Dorfstrasse 35\, 8219 Trasadingen
TRANSP:OPAQUE
SEQUENCE:0
UID:190868-veranstaltung@ref-sh.ch
DTSTAMP:20251112T163045Z
DESCRIPTION:Pfarrer Leistner Baumgardt verschiebt sein Büro ins
  Chilestöckli und ist dort gerne für Sie ansprechbar.\n\nKontakt: Stefan
  Leistner Baumgardt\n\nWeitere Infos:
  https://www.ref-sh.ch/veranstaltung/190868
SUMMARY:Pfarrer bei der Arbeit - bitte stören!
PRIORITY:5
X-MICROSOFT-CDO-IMPORTANCE:1
CLASS:PUBLIC
END:VEVENT
END:VCALENDAR
