BEGIN:VCALENDAR
PRODID:-//kirchenweb.ch gmbh//veranstaltungsausgabe v2.0//DE
VERSION:2.0
METHOD:PUBLISH
BEGIN:VEVENT
DTSTART:20260417T080000Z
DTEND:20260417T090000Z
LOCATION:Altersheim Kirchhofplatz\, Kirchhofplatz 15\, 8200 Schaffhausen
TRANSP:OPAQUE
SEQUENCE:0
UID:190792-veranstaltung@ref-sh.ch
DTSTAMP:20251111T161845Z
DESCRIPTION:Gemeinsam feiern wir Gottesdienst\, hören auf Gottes Wort\,
  singen vertraute Lieder und lauschen  schöner Klaviermusik.\n\nKontakt:
  Pfarrerin Verena Hubmann\n\nWeitere Infos:
  https://www.ref-sh.ch/veranstaltung/190792
SUMMARY:Gottesdienst
PRIORITY:5
X-MICROSOFT-CDO-IMPORTANCE:1
CLASS:PUBLIC
END:VEVENT
END:VCALENDAR
