BEGIN:VCALENDAR
PRODID:-//kirchenweb.ch gmbh//veranstaltungsausgabe v2.0//DE
VERSION:2.0
METHOD:PUBLISH
BEGIN:VEVENT
DTSTART:20260521T150000Z
DTEND:20260521T170000Z
LOCATION:Pfarrhaussäli\, Herrengasse 28\, 8213 Neunkirch
TRANSP:OPAQUE
SEQUENCE:0
UID:190758-veranstaltung@ref-sh.ch
DTSTAMP:20260414T083215Z
DESCRIPTION:"Was wächst denn da?" - Kräuterspaziergang mit Marlis
  Liechti\, Thayngen.\n\nWir schauen\, was an Wegrändern und in Gärten
  spriesst\, welche Kräuter uns gut tun und welche auch noch köstlich
  schmecken. Wir besuchen Feldwege rund ums Städtli\, bei starkem Regen
  bleiben wir im Pfarrhaussäli.\n\nEintritt frei / Kollekte am Ausgang\n
 \nDies ist eine Veranstaltung der Evangelischen Frauen Neunkirch /
  Gächlingen\n\nKontakt: Eva Baumgardt\n\nWeitere Infos:
  https://www.ref-sh.ch/veranstaltung/190758
SUMMARY:Evangelische Frauen Neunkirch / Gächlingen Kräuterspaziergang
PRIORITY:5
X-MICROSOFT-CDO-IMPORTANCE:1
CLASS:PUBLIC
END:VEVENT
END:VCALENDAR
