BEGIN:VCALENDAR
PRODID:-//kirchenweb.ch gmbh//veranstaltungsausgabe v2.0//DE
VERSION:2.0
METHOD:PUBLISH
BEGIN:VEVENT
DTSTART:20251127T123000Z
DTEND:20251127T133000Z
LOCATION:Kirche Löhningen\, Kloster 3\, 8224 Löhningen
TRANSP:OPAQUE
SEQUENCE:0
UID:190745-veranstaltung@ref-sh.ch
DTSTAMP:20251201T162219Z
DESCRIPTION:Kontakt: Pfarrer Werner Näf\n\nWeitere Infos:
  https://www.ref-sh.ch/veranstaltung/190745
SUMMARY:Abdankung Charly Müller
PRIORITY:5
X-MICROSOFT-CDO-IMPORTANCE:1
CLASS:PUBLIC
END:VEVENT
END:VCALENDAR
