BEGIN:VCALENDAR
PRODID:-//kirchenweb.ch gmbh//veranstaltungsausgabe v2.0//DE
VERSION:2.0
METHOD:PUBLISH
BEGIN:VEVENT
DTSTART:20260606T060000Z
DTEND:20260606T070000Z
LOCATION:Kirche\, Kirchstrasse 8\, 8214 Gächlingen
TRANSP:OPAQUE
SEQUENCE:0
UID:190618-veranstaltung@ref-sh.ch
DTSTAMP:20260415T074251Z
DESCRIPTION:Christen verschiedener Konfessionen aus Gächlingen und
  Umgebung treffen sich einmal pro Monat zum gemeinsamen Gebet. Die Treffen
  sind offen für alle\, die  gemeinsam ihren Dank und ihre Bitten für
  unser Dorf und unsere Region vor Gott bringen möchten. Eine Anmeldung
  ist nicht nötig.\n\nKontakt: Marianne Näf\n\nWeitere Infos:
  https://www.ref-sh.ch/veranstaltung/190618
SUMMARY:Kirchenwoche: Gächlinger Dorfgebet
PRIORITY:5
X-MICROSOFT-CDO-IMPORTANCE:1
CLASS:PUBLIC
END:VEVENT
END:VCALENDAR
