BEGIN:VCALENDAR
PRODID:-//kirchenweb.ch gmbh//veranstaltungsausgabe v2.0//DE
VERSION:2.0
METHOD:PUBLISH
BEGIN:VEVENT
DTSTART:20260617T130000Z
DTEND:20260617T143000Z
LOCATION:Altersheim im Winkel\, Hintergasse 1\, 8213 Neunkirch
TRANSP:OPAQUE
SEQUENCE:0
UID:190612-veranstaltung@ref-sh.ch
DTSTAMP:20251119T162436Z
DESCRIPTION:Thema: Helden im Alltag\n\nKontakt: Eva Baumgardt\n\nWeitere
  Infos: https://www.ref-sh.ch/veranstaltung/190612
SUMMARY:Erzählcafé im Winkel
PRIORITY:5
X-MICROSOFT-CDO-IMPORTANCE:1
CLASS:PUBLIC
END:VEVENT
END:VCALENDAR
