BEGIN:VCALENDAR
PRODID:-//kirchenweb.ch gmbh//veranstaltungsausgabe v2.0//DE
VERSION:2.0
METHOD:PUBLISH
BEGIN:VEVENT
DTSTART:20260506T130000Z
DTEND:20260506T143000Z
LOCATION:Altersheim im Winkel\, Hintergasse 1\, 8213 Neunkirch
TRANSP:OPAQUE
SEQUENCE:0
UID:190611-veranstaltung@ref-sh.ch
DTSTAMP:20251119T162410Z
DESCRIPTION:Thema: Fahrzeuge\n\nKontakt: Eva Baumgardt\n\nWeitere Infos:
  https://www.ref-sh.ch/veranstaltung/190611
SUMMARY:Erzählcafé im Winkel
PRIORITY:5
X-MICROSOFT-CDO-IMPORTANCE:1
CLASS:PUBLIC
END:VEVENT
END:VCALENDAR
