BEGIN:VCALENDAR
PRODID:-//kirchenweb.ch gmbh//veranstaltungsausgabe v2.0//DE
VERSION:2.0
METHOD:PUBLISH
BEGIN:VEVENT
DTSTART:20260225T130000Z
DTEND:20260225T160000Z
LOCATION:Alter Wachtposten\, Eingang Oberhallauerstrasse\, Vordergasse
  52\, 8213 Neunkirch
TRANSP:OPAQUE
SEQUENCE:0
UID:190607-veranstaltung@ref-sh.ch
DTSTAMP:20260209T063623Z
DESCRIPTION:Martin Harzenmoser berichtet über seine Erfahrungen mit der
  farbenfrohen\, tollen Knolle\n\nIn Südamerika\, im Gebiet der Anden\,
  wurden Kartoffeln schon vor rund 8000 Jahren als Nahrungsmittel
  geschätzt. In Europa lernte man das Nachtschattengewächs erst Mitte des
  16. Jahrhunderts durch die spanischen Seefahrer kennen - und war
  zunächst misstrauisch. \nGrosse Hungersnöte verhalfen im 18. und 19.
  Jahrhundert dem Kartoffelanbau schliesslich auch in unserer Region zum
  Durchbruch. \n\nDer Historiker Martin Harzenmoser interessiert sich schon
  lange für die «tolle Knolle» und ihre Geschichte. Dank der
  Unterstützung lokaler Bauern pflanzt er schon seit über 20 Jahren
  Kartoffelsorten mit so klingenden Namen wie «Symphorosa»\, «Marbelle
  »\, «Blaue Anneliese» oder «La Ratte». Sie reichen im Farbspektrum
  von hellgelb über rot bis violett und vom Geschmack her von cremig\,
  nussig bis hin zu buttrig. \nIn seinem Vortrag erzählt Martin
  Harzenmoser etwas über die Geschichte und die Vielfalt der
  «Herdöpfel» und wird auch ein paar «Versüecherli» der
  interessantesten Kartoffelsorten mitbringen. \n\nEintritt frei\, Kollekte
  am Ausgang\n\n\n\nKontakt: Eva Baumgardt\n\nWeitere Infos:
  https://www.ref-sh.ch/veranstaltung/190607
SUMMARY:Regionaler Seniorennachmittag
PRIORITY:5
X-MICROSOFT-CDO-IMPORTANCE:1
CLASS:PUBLIC
END:VEVENT
END:VCALENDAR
