BEGIN:VCALENDAR
PRODID:-//kirchenweb.ch gmbh//veranstaltungsausgabe v2.0//DE
VERSION:2.0
METHOD:PUBLISH
BEGIN:VEVENT
DTSTART:20260817T080000Z
DTEND:20260817T100000Z
LOCATION:Alter Wachtposten\, Eingang Oberhallauerstrasse\, Vordergasse
  52\, 8213 Neunkirch
TRANSP:OPAQUE
SEQUENCE:0
UID:190501-veranstaltung@ref-sh.ch
DTSTAMP:20260409T153013Z
DESCRIPTION:Thema im August: Narzissmus als Phänomen\nMit diesem
  Schlagwort versuchen wir\, nicht nur spezielle Persönlichkeitstypen zu
  beschreiben\, die man früher vielleicht einfach eitel und egoistisch
  genannt hätte. \nMittlerweile ist der Begriff zum Kennwort für eine
  Lebenshaltung geworden\, die ausser den eigenen Interessen keine anderen
  mehr gelten lässt.\nDer Psychoanalytiker Arnold Frauenfelder aus
  Schaffhausen klärt uns auf\, woher dieser Begriff stammt\, was zur
  Diagnose einer "narzisstischen Störung" gehört und was für den Umgang
  mit ihr hilfreich ist.\nEintritt frei\, Kollekte\n\n\n\nKontakt: Eva
  Baumgardt\n\nWeitere Infos: https://www.ref-sh.ch/veranstaltung/190501
SUMMARY:Spätlese - Gesprächskreis für Menschen im gereiften Alter
PRIORITY:5
X-MICROSOFT-CDO-IMPORTANCE:1
CLASS:PUBLIC
END:VEVENT
END:VCALENDAR
