BEGIN:VCALENDAR
PRODID:-//kirchenweb.ch gmbh//veranstaltungsausgabe v2.0//DE
VERSION:2.0
METHOD:PUBLISH
BEGIN:VEVENT
DTSTART:20260921T080000Z
DTEND:20260921T100000Z
LOCATION:Alter Wachtposten\, Eingang Oberhallauerstrasse\, Vordergasse
  52\, 8213 Neunkirch
TRANSP:OPAQUE
SEQUENCE:0
UID:190499-veranstaltung@ref-sh.ch
DTSTAMP:20260409T153016Z
DESCRIPTION:Thema im September: Brandschutz\nUnglücksfälle in der
  Schweiz haben leider wieder gezeigt\, wie wichtig Sicherheitsvorkehrungen
  und das richtige Verhalten im Brandfall sind.\nDer ausgebildete
  Brandschutzfachmann Manfred Fois hat 20 Jahre Erfahrung als
  Feuerwehroffizier und erläutert uns die wichtigsten Massnahmen\, die
  helfen\, das Schlimmste zu verhindern.\nEintritt frei\, Kollekte\n
 \nKontakt: Eva Baumgardt\n\nWeitere Infos:
  https://www.ref-sh.ch/veranstaltung/190499
SUMMARY:Spätlese - Gesprächskreis für Menschen im gereiften Alter
PRIORITY:5
X-MICROSOFT-CDO-IMPORTANCE:1
CLASS:PUBLIC
END:VEVENT
END:VCALENDAR
