BEGIN:VCALENDAR
PRODID:-//kirchenweb.ch gmbh//veranstaltungsausgabe v2.0//DE
VERSION:2.0
METHOD:PUBLISH
BEGIN:VEVENT
DTSTART:20260518T080000Z
DTEND:20260518T100000Z
LOCATION:Alter Wachtposten\, Eingang Oberhallauerstrasse\, Vordergasse
  52\, 8213 Neunkirch
TRANSP:OPAQUE
SEQUENCE:0
UID:190497-veranstaltung@ref-sh.ch
DTSTAMP:20260409T153005Z
DESCRIPTION:Gast im Mai: "The Great Amadeus"\nEs gibt reichlich wichtige
  Themen\, die an unserem Gesprächsmorgen bereits im Mittelpunkt standen.
 \nFür diesmal geniessen wir zauberhalfte Unterhaltung\, mit Charme und
  Augenzwinkern präsentiert vom Zauberkünslter "Great Amadeus"\, auch
  bekannt als Gerry Brägger aus Neunkirch.\nAls Hobby-Magier ist er ein
  echter Profi und freut sich darauf\, unsere Erwartungen zu übertreffen.
 \n\nEintritt frei\, Kollekte\n\n\n\nKontakt: Eva Baumgardt\n\nWeitere
  Infos: https://www.ref-sh.ch/veranstaltung/190497
SUMMARY:Spätlese - Gesprächskreis für Menschen im gereiften Alter
PRIORITY:5
X-MICROSOFT-CDO-IMPORTANCE:1
CLASS:PUBLIC
END:VEVENT
END:VCALENDAR
