BEGIN:VCALENDAR
PRODID:-//kirchenweb.ch gmbh//veranstaltungsausgabe v2.0//DE
VERSION:2.0
METHOD:PUBLISH
BEGIN:VEVENT
DTSTART:20261231T160000Z
DTEND:20261231T170000Z
LOCATION:Bergkirche Neunkirch\, Oberwiesstr. 20\, 8213 Neunkirch
TRANSP:OPAQUE
SEQUENCE:0
UID:190319-veranstaltung@ref-sh.ch
DTSTAMP:20251105T163056Z
DESCRIPTION:Kontakt: Pfrn. Eva Baumgardt\n\nWeitere Infos:
  https://www.ref-sh.ch/veranstaltung/190319
SUMMARY:Gottesdienst an Silvester mit Abendmahl
PRIORITY:5
X-MICROSOFT-CDO-IMPORTANCE:1
CLASS:PUBLIC
END:VEVENT
END:VCALENDAR
