BEGIN:VCALENDAR
PRODID:-//kirchenweb.ch gmbh//veranstaltungsausgabe v2.0//DE
VERSION:2.0
METHOD:PUBLISH
BEGIN:VEVENT
DTSTART:20261224T150000Z
DTEND:20261224T160000Z
LOCATION:Bergkirche Neunkirch\, Oberwiesstr. 20\, 8213 Neunkirch
TRANSP:OPAQUE
SEQUENCE:0
UID:190316-veranstaltung@ref-sh.ch
DTSTAMP:20251108T083127Z
DESCRIPTION:Kontakt: Pfrn. Eva Baumgardt\n\nWeitere Infos:
  https://www.ref-sh.ch/veranstaltung/190316
SUMMARY:Familiengottesdienst Kinderweihnacht
PRIORITY:5
X-MICROSOFT-CDO-IMPORTANCE:1
CLASS:PUBLIC
END:VEVENT
END:VCALENDAR
