BEGIN:VCALENDAR
PRODID:-//kirchenweb.ch gmbh//veranstaltungsausgabe v2.0//DE
VERSION:2.0
METHOD:PUBLISH
BEGIN:VEVENT
DTSTART:20260809T080000Z
DTEND:20260809T090000Z
LOCATION:Städtlikirche Neunkirch\, Herrengasse\, 8213 Neunkirch
TRANSP:OPAQUE
SEQUENCE:0
UID:190305-veranstaltung@ref-sh.ch
DTSTAMP:20251105T163040Z
DESCRIPTION:Kontakt: Pfrn. Eva Baumgardt\n\nWeitere Infos:
  https://www.ref-sh.ch/veranstaltung/190305
SUMMARY:Ökumenischer Familiengottesdienst und Chilbi
PRIORITY:5
X-MICROSOFT-CDO-IMPORTANCE:1
CLASS:PUBLIC
END:VEVENT
END:VCALENDAR
