BEGIN:VCALENDAR
PRODID:-//kirchenweb.ch gmbh//veranstaltungsausgabe v2.0//DE
VERSION:2.0
METHOD:PUBLISH
BEGIN:VEVENT
DTSTART:20261017T120000Z
DTEND:20261017T133000Z
LOCATION:Münsterportal\, Münsterplatz\,  Schaffhausen
TRANSP:OPAQUE
SEQUENCE:0
UID:190300-veranstaltung@ref-sh.ch
DTSTAMP:20251105T131611Z
DESCRIPTION:Auf den Spuren der Hugenotten und Waldenser\nDauer eine gute
  Stunde\, in der Schaffhauser Altstadt\n15 Fr. pro Person\, Anmeldung
  erforderlich.\n\nKontakt: Laurent Auberson\n\nWeitere Infos:
  https://www.ref-sh.ch/veranstaltung/190300
SUMMARY:Hugenotten-Stadtrundgang mit Laurent Auberson
PRIORITY:5
X-MICROSOFT-CDO-IMPORTANCE:1
CLASS:PUBLIC
END:VEVENT
END:VCALENDAR
