BEGIN:VCALENDAR
PRODID:-//kirchenweb.ch gmbh//veranstaltungsausgabe v2.0//DE
VERSION:2.0
METHOD:PUBLISH
BEGIN:VEVENT
DTSTART:20260524T080000Z
DTEND:20260524T090000Z
LOCATION:Bergkirche Neunkirch\, Oberwiesstr. 20\, 8213 Neunkirch
TRANSP:OPAQUE
SEQUENCE:0
UID:190298-veranstaltung@ref-sh.ch
DTSTAMP:20260211T061856Z
DESCRIPTION:Kontakt: Pfrn. Eva Baumgardt\n\nWeitere Infos:
  https://www.ref-sh.ch/veranstaltung/190298
SUMMARY:Gottesdienst an Pfingsten mit Abendmahl
PRIORITY:5
X-MICROSOFT-CDO-IMPORTANCE:1
CLASS:PUBLIC
END:VEVENT
END:VCALENDAR
