BEGIN:VCALENDAR
PRODID:-//kirchenweb.ch gmbh//veranstaltungsausgabe v2.0//DE
VERSION:2.0
METHOD:PUBLISH
BEGIN:VEVENT
DTSTART:20261206T090000Z
DTEND:20261206T100000Z
LOCATION:Kirche\, Kirchgasse\, 8226 Schleitheim
TRANSP:OPAQUE
SEQUENCE:0
UID:190281-veranstaltung@ref-sh.ch
DTSTAMP:20251109T152055Z
DESCRIPTION:Kontakt: Pfr. Heinz Dutler\n\nWeitere Infos:
  https://www.ref-sh.ch/veranstaltung/190281
SUMMARY:Gottesdienst
PRIORITY:5
X-MICROSOFT-CDO-IMPORTANCE:1
CLASS:PUBLIC
END:VEVENT
END:VCALENDAR
