BEGIN:VCALENDAR
PRODID:-//kirchenweb.ch gmbh//veranstaltungsausgabe v2.0//DE
VERSION:2.0
METHOD:PUBLISH
BEGIN:VEVENT
DTSTART:20261108T170000Z
DTEND:20261108T180000Z
LOCATION:Kirche\, Kirchgasse\, 8226 Schleitheim
TRANSP:OPAQUE
SEQUENCE:0
UID:190278-veranstaltung@ref-sh.ch
DTSTAMP:20260217T155824Z
DESCRIPTION:Es wirken mit im Quintett "Clarobello":\nOboe: Monika von
  Massenbach \nKlarinette / Fagott: Roman Gienuth\, Rolf Neuweiler 
 \nBassklarinette: Cristina Donet \nCello: Ursula Frei \n\nWorte: Verena
  Marty\n\nKontakt: Verena Marty-Vögeli\n\nWeitere Infos:
  https://www.ref-sh.ch/veranstaltung/190278
SUMMARY:Musik und Wort "Vesper"
PRIORITY:5
X-MICROSOFT-CDO-IMPORTANCE:1
CLASS:PUBLIC
END:VEVENT
END:VCALENDAR
