BEGIN:VCALENDAR
PRODID:-//kirchenweb.ch gmbh//veranstaltungsausgabe v2.0//DE
VERSION:2.0
METHOD:PUBLISH
BEGIN:VEVENT
DTSTART:20260809T090000Z
DTEND:20260809T100000Z
LOCATION:Kirche\, Kirchgasse\, 8226 Schleitheim
TRANSP:OPAQUE
SEQUENCE:0
UID:190266-veranstaltung@ref-sh.ch
DTSTAMP:20251227T180559Z
DESCRIPTION:Es laden ein: Katholische Kirche\, EMK\, Chrischona und
  Reformierte Kirchgemeinde.\n\nKontakt: Chrischona\n\nWeitere Infos:
  https://www.ref-sh.ch/veranstaltung/190266
SUMMARY:Badi-Gottesdienst der Schleitheimer Christenratsgemeinden
PRIORITY:5
X-MICROSOFT-CDO-IMPORTANCE:1
CLASS:PUBLIC
END:VEVENT
END:VCALENDAR
