BEGIN:VCALENDAR
PRODID:-//kirchenweb.ch gmbh//veranstaltungsausgabe v2.0//DE
VERSION:2.0
METHOD:PUBLISH
BEGIN:VEVENT
DTSTART:20260524T080000Z
DTEND:20260524T090000Z
LOCATION:Kirche\, Kirchgasse\, 8226 Schleitheim
TRANSP:OPAQUE
SEQUENCE:0
UID:190258-veranstaltung@ref-sh.ch
DTSTAMP:20260120T155528Z
DESCRIPTION:Mit Abendmahl\n\nKontakt: Pfr. Heinz Dutler\n\nWeitere Infos:
  https://www.ref-sh.ch/veranstaltung/190258
SUMMARY:Pfingstfamiliengottesdienst
PRIORITY:5
X-MICROSOFT-CDO-IMPORTANCE:1
CLASS:PUBLIC
END:VEVENT
END:VCALENDAR
