BEGIN:VCALENDAR
PRODID:-//kirchenweb.ch gmbh//veranstaltungsausgabe v2.0//DE
VERSION:2.0
METHOD:PUBLISH
BEGIN:VEVENT
DTSTART:20261103T183000Z
DTEND:20261103T210000Z
LOCATION:Kirchgemeindehaus Beringen\, Steig 2\, 8222 Beringen
TRANSP:OPAQUE
SEQUENCE:0
UID:190235-veranstaltung@ref-sh.ch
DTSTAMP:20251105T075053Z
DESCRIPTION:Kontakt: Fabienne Anghel\n\nWeitere Infos:
  https://www.ref-sh.ch/veranstaltung/190235
SUMMARY:Strategiesitzung Junge Kirche
PRIORITY:5
X-MICROSOFT-CDO-IMPORTANCE:1
CLASS:PUBLIC
END:VEVENT
END:VCALENDAR
