BEGIN:VCALENDAR
PRODID:-//kirchenweb.ch gmbh//veranstaltungsausgabe v2.0//DE
VERSION:2.0
METHOD:PUBLISH
BEGIN:VEVENT
DTSTART:20251214T153000Z
DTEND:20251214T164500Z
LOCATION:Junhschichäller Gächlingen\, Gemeindehausplatz 3\, 8214
  Gächlingen
TRANSP:OPAQUE
SEQUENCE:0
UID:190091-veranstaltung@ref-sh.ch
DTSTAMP:20251031T163007Z
DESCRIPTION:Willkommen zu einem gemütlichen Beisammensein\, bei dem wir
  die Bücher der Bibel erkunden. Mit Auslegungen\, Austausch und
  Trinkgenuss.   \n\n\nKontakt: Flavia Ernst\n\nWeitere Infos:
  https://www.ref-sh.ch/veranstaltung/190091
SUMMARY:Cheers & Chapters
PRIORITY:5
X-MICROSOFT-CDO-IMPORTANCE:1
CLASS:PUBLIC
END:VEVENT
END:VCALENDAR
