BEGIN:VCALENDAR
PRODID:-//kirchenweb.ch gmbh//veranstaltungsausgabe v2.0//DE
VERSION:2.0
METHOD:PUBLISH
BEGIN:VEVENT
DTSTART:20260317T083000Z
DTEND:20260317T090000Z
LOCATION:Pfarreisaal St. Konrad\, Stauffacherstrasse 3 \, 8200
  Schaffhausen
TRANSP:OPAQUE
SEQUENCE:0
UID:190077-veranstaltung@ref-sh.ch
DTSTAMP:20260316T105905Z
DESCRIPTION:Ökumenischer Kleinkindergottesdienst der Kirchgemeinden
  Buchthalen\, St.Johann-Münster und St.Konrad für Kinder bis zum
  Kindergartenalter in Begleitung einer erwachsenen Person. \nFür alle\,
  die Zeit haben\, wird anschliessend ein Znüni angeboten. \n\nEs laden
  ein: Petra Koblet\, Pfn Livia Strauss\, Pfr. Roland Diethelm\n
 \nvierteljährlich am Dienstag um 9.30-10.00 Uhr im Pfarreisaal St. Konrad
 \n\n\n\n\n\n\n\n\n\n\n\n\n\n\n\n\n\n\n\n\nKontakt: Pfarrer Roland Diethelm
 \n\nWeitere Infos: https://www.ref-sh.ch/veranstaltung/190077
SUMMARY:Fiire mit de Chliine
PRIORITY:5
X-MICROSOFT-CDO-IMPORTANCE:1
CLASS:PUBLIC
END:VEVENT
END:VCALENDAR
