BEGIN:VCALENDAR
PRODID:-//kirchenweb.ch gmbh//veranstaltungsausgabe v2.0//DE
VERSION:2.0
METHOD:PUBLISH
BEGIN:VEVENT
DTSTART:20261019T150000Z
DTEND:20261019T160000Z
LOCATION:HofAckerZentrum\, Alpenstrasse 176\, 8203 Schaffhausen
TRANSP:OPAQUE
SEQUENCE:0
UID:189993-veranstaltung@ref-sh.ch
DTSTAMP:20251029T135201Z
DESCRIPTION:Kontakt: Dorothea Giger \n052 624 80 45 \n078 812 08 20\n
 \nWeitere Infos: https://www.ref-sh.ch/veranstaltung/189993
SUMMARY:Lesegruppe
PRIORITY:5
X-MICROSOFT-CDO-IMPORTANCE:1
CLASS:PUBLIC
END:VEVENT
END:VCALENDAR
