BEGIN:VCALENDAR
PRODID:-//kirchenweb.ch gmbh//veranstaltungsausgabe v2.0//DE
VERSION:2.0
METHOD:PUBLISH
BEGIN:VEVENT
DTSTART:20260407T180000Z
DTEND:20260407T193000Z
LOCATION:Pfarrhaussaal\, Im Chloster 1\, 8214 Gächlingen
TRANSP:OPAQUE
SEQUENCE:0
UID:189883-veranstaltung@ref-sh.ch
DTSTAMP:20260410T102837Z
DESCRIPTION:Alle Mitglieder der Kirchgemeinde Gächlingen sind
  eingeladen\, um an diesem Abend die Jahresrechnung 2025 anzuschauen und
  zu genehmigen\, auf das vergangene Jahr zurück zu blicken und weitere
  aktuelle Informationen entgegen zu nehmen.\nUnterlagen und Informationen:
  http://www.ref-gaechlingen.ch/kirchgemeindeversammlung\nNach dem
  geschäftlichen Teil serviert der Kirchenstand einen Apéro.\n\nKontakt:
  Philippe Niklaus\n\nWeitere Infos:
  https://www.ref-sh.ch/veranstaltung/189883
SUMMARY:Kirchgemeindeversammlung
PRIORITY:5
X-MICROSOFT-CDO-IMPORTANCE:1
CLASS:PUBLIC
END:VEVENT
END:VCALENDAR
