BEGIN:VCALENDAR
PRODID:-//kirchenweb.ch gmbh//veranstaltungsausgabe v2.0//DE
VERSION:2.0
METHOD:PUBLISH
BEGIN:VEVENT
DTSTART:20260927T080000Z
DTEND:20260927T090000Z
LOCATION:Zwinglikirche\, Hochstrasse 202\, 8200 Schaffhausen
TRANSP:OPAQUE
SEQUENCE:0
UID:189838-veranstaltung@ref-sh.ch
DTSTAMP:20260402T094109Z
DESCRIPTION:Kontakt: Pfr. Yves L'Eplattenier\n\nWeitere Infos:
  https://www.ref-sh.ch/veranstaltung/189838
SUMMARY:Gottesdienst
PRIORITY:5
X-MICROSOFT-CDO-IMPORTANCE:1
CLASS:PUBLIC
END:VEVENT
END:VCALENDAR
