BEGIN:VCALENDAR
PRODID:-//kirchenweb.ch gmbh//veranstaltungsausgabe v2.0//DE
VERSION:2.0
METHOD:PUBLISH
BEGIN:VEVENT
DTSTART:20261203T090000Z
DTEND:20261203T100000Z
LOCATION:Früeling - Zentrum fürs Alter\, Zelgstr. 2\, 8222 Beringen
TRANSP:OPAQUE
SEQUENCE:0
UID:189827-veranstaltung@ref-sh.ch
DTSTAMP:20260213T093646Z
DESCRIPTION:Kontakt: Pfarrerin Jutta Schenk\n\nWeitere Infos:
  https://www.ref-sh.ch/veranstaltung/189827
SUMMARY:Gottesdienst im Früeling - Zentrum fürs Alter
PRIORITY:5
X-MICROSOFT-CDO-IMPORTANCE:1
CLASS:PUBLIC
END:VEVENT
END:VCALENDAR
