BEGIN:VCALENDAR
PRODID:-//kirchenweb.ch gmbh//veranstaltungsausgabe v2.0//DE
VERSION:2.0
METHOD:PUBLISH
BEGIN:VEVENT
DTSTART:20261112T090000Z
DTEND:20261112T100000Z
LOCATION:Früeling - Zentrum fürs Alter\, Zelgstr. 2\, 8222 Beringen
TRANSP:OPAQUE
SEQUENCE:0
UID:189812-veranstaltung@ref-sh.ch
DTSTAMP:20260213T093455Z
DESCRIPTION:Kontakt: Niedermann Annemarie\, Liturgie\n052 / 672 68 75\n\n
 \n\nWeitere Infos: https://www.ref-sh.ch/veranstaltung/189812
SUMMARY:Gottesdienst im Früeling - Zentrum fürs Alter
PRIORITY:5
X-MICROSOFT-CDO-IMPORTANCE:1
CLASS:PUBLIC
END:VEVENT
END:VCALENDAR
