BEGIN:VCALENDAR
PRODID:-//kirchenweb.ch gmbh//veranstaltungsausgabe v2.0//DE
VERSION:2.0
METHOD:PUBLISH
BEGIN:VEVENT
DTSTART:20261218T170000Z
DTEND:20261218T180000Z
LOCATION:Zwinglikirche\, Hochstrasse 202\, 8200 Schaffhausen
TRANSP:OPAQUE
SEQUENCE:0
UID:189803-veranstaltung@ref-sh.ch
DTSTAMP:20260126T084734Z
DESCRIPTION:Komm\, wir machen eine Reise... in den Stall/an ein Ziel\n
 \nKontakt: Silvia Haas\n\nWeitere Infos:
  https://www.ref-sh.ch/veranstaltung/189803
SUMMARY:Der ANDERE Gottesdienst
PRIORITY:5
X-MICROSOFT-CDO-IMPORTANCE:1
CLASS:PUBLIC
END:VEVENT
END:VCALENDAR
