BEGIN:VCALENDAR
PRODID:-//kirchenweb.ch gmbh//veranstaltungsausgabe v2.0//DE
VERSION:2.0
METHOD:PUBLISH
BEGIN:VEVENT
DTSTART:20261113T170000Z
DTEND:20261113T180000Z
LOCATION:Zwinglikirche\, Hochstrasse 202\, 8200 Schaffhausen
TRANSP:OPAQUE
SEQUENCE:0
UID:189802-veranstaltung@ref-sh.ch
DTSTAMP:20260226T072135Z
DESCRIPTION:Komm\, wir machen eine Reise... durch den Nebel\n\nKontakt:
  Christine Roth/Nicole Russenberger\n\nWeitere Infos:
  https://www.ref-sh.ch/veranstaltung/189802
SUMMARY:Der ANDERE Gottesdienst
PRIORITY:5
X-MICROSOFT-CDO-IMPORTANCE:1
CLASS:PUBLIC
END:VEVENT
END:VCALENDAR
