BEGIN:VCALENDAR
PRODID:-//kirchenweb.ch gmbh//veranstaltungsausgabe v2.0//DE
VERSION:2.0
METHOD:PUBLISH
BEGIN:VEVENT
DTSTART:20260911T160000Z
DTEND:20260911T170000Z
LOCATION:Zwinglikirche\, Hochstrasse 202\, 8200 Schaffhausen
TRANSP:OPAQUE
SEQUENCE:0
UID:189801-veranstaltung@ref-sh.ch
DTSTAMP:20260126T084655Z
DESCRIPTION:Komm\, wir machen eine Reise... in ein Buch\n\nKontakt:
  Martina Tinner und Miriam Gehrke\n\nWeitere Infos:
  https://www.ref-sh.ch/veranstaltung/189801
SUMMARY:Der ANDERE Gottesdienst
PRIORITY:5
X-MICROSOFT-CDO-IMPORTANCE:1
CLASS:PUBLIC
END:VEVENT
END:VCALENDAR
