BEGIN:VCALENDAR
PRODID:-//kirchenweb.ch gmbh//veranstaltungsausgabe v2.0//DE
VERSION:2.0
METHOD:PUBLISH
BEGIN:VEVENT
DTSTART:20261108T160000Z
DTEND:20261108T170000Z
LOCATION:Zwinglikirche\, Hochstrasse 202\, 8200 Schaffhausen
TRANSP:OPAQUE
SEQUENCE:0
UID:189790-veranstaltung@ref-sh.ch
DTSTAMP:20260220T102739Z
DESCRIPTION:Ausklang an der Feuerschale\n\nKontakt: Pfrn. Miriam Gehrke\n
 \nWeitere Infos: https://www.ref-sh.ch/veranstaltung/189790
SUMMARY:Nachtklang-Frauen-Gottesdienst
PRIORITY:5
X-MICROSOFT-CDO-IMPORTANCE:1
CLASS:PUBLIC
END:VEVENT
END:VCALENDAR
