BEGIN:VCALENDAR
PRODID:-//kirchenweb.ch gmbh//veranstaltungsausgabe v2.0//DE
VERSION:2.0
METHOD:PUBLISH
BEGIN:VEVENT
DTSTART:20260906T150000Z
DTEND:20260906T160000Z
LOCATION:Zwinglikirche\, Hochstrasse 202\, 8200 Schaffhausen
TRANSP:OPAQUE
SEQUENCE:0
UID:189789-veranstaltung@ref-sh.ch
DTSTAMP:20251219T140653Z
DESCRIPTION:Ausklang an der Feuerschale\n\nKontakt: Pfrn. Miriam Gehrke\n
 \nWeitere Infos: https://www.ref-sh.ch/veranstaltung/189789
SUMMARY:Nachtklang-Gottesdienst
PRIORITY:5
X-MICROSOFT-CDO-IMPORTANCE:1
CLASS:PUBLIC
END:VEVENT
END:VCALENDAR
