BEGIN:VCALENDAR
PRODID:-//kirchenweb.ch gmbh//veranstaltungsausgabe v2.0//DE
VERSION:2.0
METHOD:PUBLISH
BEGIN:VEVENT
DTSTART:20260920T080000Z
DTEND:20260920T090000Z
LOCATION:Zwinglikirche\, Hochstrasse 202\, 8200 Schaffhausen
TRANSP:OPAQUE
SEQUENCE:0
UID:189784-veranstaltung@ref-sh.ch
DTSTAMP:20260402T094030Z
DESCRIPTION:Ausklang an der Feuerschale\n\nKontakt: Pfrn. Miriam Gehrke\n
 \nWeitere Infos: https://www.ref-sh.ch/veranstaltung/189784
SUMMARY:Gottesdienst zum Bettag mit Abendmahl und Taufe
PRIORITY:5
X-MICROSOFT-CDO-IMPORTANCE:1
CLASS:PUBLIC
END:VEVENT
END:VCALENDAR
