BEGIN:VCALENDAR
PRODID:-//kirchenweb.ch gmbh//veranstaltungsausgabe v2.0//DE
VERSION:2.0
METHOD:PUBLISH
BEGIN:VEVENT
DTSTART:20260830T083000Z
DTEND:20260830T093000Z
LOCATION:Zwinglikirche\, Hochstrasse 202\, 8200 Schaffhausen
TRANSP:OPAQUE
SEQUENCE:0
UID:189783-veranstaltung@ref-sh.ch
DTSTAMP:20251211T095931Z
DESCRIPTION:Der Gottesdienst findet am Fischerhöck Laag in Büsingen
  statt\, anlässlich des traditionellen Rhyhölzlifäschts des
  Fischereivereins Schaffhausen.\n\nAnschliessend gibt es die Möglichkeit
  für feine Fischknusperli.\n\nIndividuelle Anreise. Wer eine
  Fahrgelegenheit benötigt\, bitte melden. Bei Bedarf werden wir einen
  Kleinbus einsetzen.\n\nKontakt: Pfr. Yves L'Eplattenier\n\nWeitere Infos:
  https://www.ref-sh.ch/veranstaltung/189783
SUMMARY:Gottesdienst am Fischerhöck Laag
PRIORITY:5
X-MICROSOFT-CDO-IMPORTANCE:1
CLASS:PUBLIC
END:VEVENT
END:VCALENDAR
