BEGIN:VCALENDAR
PRODID:-//kirchenweb.ch gmbh//veranstaltungsausgabe v2.0//DE
VERSION:2.0
METHOD:PUBLISH
BEGIN:VEVENT
DTSTART:20261129T090000Z
DTEND:20261129T100000Z
LOCATION:Zwinglikirche\, Hochstrasse 202\, 8200 Schaffhausen
TRANSP:OPAQUE
SEQUENCE:0
UID:189776-veranstaltung@ref-sh.ch
DTSTAMP:20260226T072155Z
DESCRIPTION:Mit Suppenzmittag und Verkaufsstand der Lismergruppe. Der
  Erlös geht – nun schon seit vielen Jahren - an ein Projekt der
  Schwestern von Rheinau.\n\nKontakt: Pfrn. Miriam Gehrke\n\nWeitere Infos:
  https://www.ref-sh.ch/veranstaltung/189776
SUMMARY:Familien-Gottesdienst zum 1. Advent
PRIORITY:5
X-MICROSOFT-CDO-IMPORTANCE:1
CLASS:PUBLIC
END:VEVENT
END:VCALENDAR
