BEGIN:VCALENDAR
PRODID:-//kirchenweb.ch gmbh//veranstaltungsausgabe v2.0//DE
VERSION:2.0
METHOD:PUBLISH
BEGIN:VEVENT
DTSTART:20261210T070000Z
DTEND:20261210T160000Z
LOCATION:Zwinglikirche\, Hochstrasse 202\, 8200 Schaffhausen
TRANSP:OPAQUE
SEQUENCE:0
UID:189762-veranstaltung@ref-sh.ch
DTSTAMP:20251024T062529Z
DESCRIPTION:Kontakt: Bernd Molter\n\nWeitere Infos:
  https://www.ref-sh.ch/veranstaltung/189762
SUMMARY:Cilag prov. Mitarbeiterinfo
PRIORITY:5
X-MICROSOFT-CDO-IMPORTANCE:1
CLASS:PUBLIC
END:VEVENT
END:VCALENDAR
