BEGIN:VCALENDAR
PRODID:-//kirchenweb.ch gmbh//veranstaltungsausgabe v2.0//DE
VERSION:2.0
METHOD:PUBLISH
BEGIN:VEVENT
DTSTART:20260802T080000Z
DTEND:20260802T090000Z
LOCATION:La Résidence\, Stettemerstrasse 95\, 8207 Schaffhausen
TRANSP:OPAQUE
SEQUENCE:0
UID:189708-veranstaltung@ref-sh.ch
DTSTAMP:20260126T084640Z
DESCRIPTION:Kontakt: Pfrn. Dorothe Felix\n\nWeitere Infos:
  https://www.ref-sh.ch/veranstaltung/189708
SUMMARY:Do-Re-Mi Gottesdienst in der La Résidence
PRIORITY:5
X-MICROSOFT-CDO-IMPORTANCE:1
CLASS:PUBLIC
END:VEVENT
END:VCALENDAR
