BEGIN:VCALENDAR
PRODID:-//kirchenweb.ch gmbh//veranstaltungsausgabe v2.0//DE
VERSION:2.0
METHOD:PUBLISH
BEGIN:VEVENT
DTSTART:20260524T080000Z
DTEND:20260524T090000Z
LOCATION:Kirche Herblingen\, Chileweg\, 8207 Schaffhausen
TRANSP:OPAQUE
SEQUENCE:0
UID:189704-veranstaltung@ref-sh.ch
DTSTAMP:20260123T111252Z
DESCRIPTION:Pfingstgottesdienst\n\nu.a. mit Barna Vitos (cand. theol.)\,
  Peter Vogelsanger (Pfarrer)\, Maya Lüscher (Klavier/Orgel)\n\nKontakt:
  Pfr. Peter Vogelsanger\n\nWeitere Infos:
  https://www.ref-sh.ch/veranstaltung/189704
SUMMARY:über Dietrich Bonhoeffer
PRIORITY:5
X-MICROSOFT-CDO-IMPORTANCE:1
CLASS:PUBLIC
END:VEVENT
END:VCALENDAR
