BEGIN:VCALENDAR
PRODID:-//kirchenweb.ch gmbh//veranstaltungsausgabe v2.0//DE
VERSION:2.0
METHOD:PUBLISH
BEGIN:VEVENT
DTSTART:20260510T080000Z
DTEND:20260510T090000Z
LOCATION:Kirche Herblingen\, Chileweg\, 8207 Schaffhausen
TRANSP:OPAQUE
SEQUENCE:0
UID:189703-veranstaltung@ref-sh.ch
DTSTAMP:20260312T150700Z
DESCRIPTION:mit Pfarrer Peter Vogelsanger\n\nKontakt: Pfr. Peter
  Vogelsanger\n\nWeitere Infos: https://www.ref-sh.ch/veranstaltung/189703
SUMMARY:Gottesdienst zum Muttertag
PRIORITY:5
X-MICROSOFT-CDO-IMPORTANCE:1
CLASS:PUBLIC
END:VEVENT
END:VCALENDAR
