BEGIN:VCALENDAR
PRODID:-//kirchenweb.ch gmbh//veranstaltungsausgabe v2.0//DE
VERSION:2.0
METHOD:PUBLISH
BEGIN:VEVENT
DTSTART:20260426T080000Z
DTEND:20260426T090000Z
LOCATION:Kirche Herblingen\, Chileweg\, 8207 Schaffhausen
TRANSP:OPAQUE
SEQUENCE:0
UID:189644-veranstaltung@ref-sh.ch
DTSTAMP:20260212T161028Z
DESCRIPTION:Kontakt: Pfrn. Dorothe Felix\n\nWeitere Infos:
  https://www.ref-sh.ch/veranstaltung/189644
SUMMARY:Gottesdienst mit Pfarrerin Dorothe Felix
PRIORITY:5
X-MICROSOFT-CDO-IMPORTANCE:1
CLASS:PUBLIC
END:VEVENT
END:VCALENDAR
