BEGIN:VCALENDAR
PRODID:-//kirchenweb.ch gmbh//veranstaltungsausgabe v2.0//DE
VERSION:2.0
METHOD:PUBLISH
BEGIN:VEVENT
DTSTART:20260419T080000Z
DTEND:20260419T090000Z
LOCATION:Kirche Herblingen\, Chileweg\, 8207 Schaffhausen
TRANSP:OPAQUE
SEQUENCE:0
UID:189630-veranstaltung@ref-sh.ch
DTSTAMP:20260419T214130Z
DESCRIPTION:Gottesdienst mit Pfarrer Peter Vogelsanger\nDer erste
  Osterbericht handelt von Maria und dem Auferstandenen in Golgatha.
  Golgatha war eine Art Garten\, auf jeden Falle hatte es dort Gräber.
  Maria verwechselte den Auferstandenen zunächst mit einem
  Friedfhofsgärtner.\n\nKontakt: Pfr. Peter Vogelsanger\n\nWeitere Infos:
  https://www.ref-sh.ch/veranstaltung/189630
SUMMARY:Auferstehung im Garten
PRIORITY:5
X-MICROSOFT-CDO-IMPORTANCE:1
CLASS:PUBLIC
END:VEVENT
END:VCALENDAR
