BEGIN:VCALENDAR
PRODID:-//kirchenweb.ch gmbh//veranstaltungsausgabe v2.0//DE
VERSION:2.0
METHOD:PUBLISH
BEGIN:VEVENT
DTSTART:20260512T073000Z
DTEND:20260512T083000Z
LOCATION:La Résidence\, Stettemerstrasse 95\, 8207 Schaffhausen
TRANSP:OPAQUE
SEQUENCE:0
UID:189600-veranstaltung@ref-sh.ch
DTSTAMP:20251022T183805Z
DESCRIPTION:Kontakt: dorothe.felix@ref-sh.ch\n\nWeitere Infos:
  https://www.ref-sh.ch/veranstaltung/189600
SUMMARY:Gottesdienst mit Pfarrerin Dorothe Felix
PRIORITY:5
X-MICROSOFT-CDO-IMPORTANCE:1
CLASS:PUBLIC
END:VEVENT
END:VCALENDAR
