BEGIN:VCALENDAR
PRODID:-//kirchenweb.ch gmbh//veranstaltungsausgabe v2.0//DE
VERSION:2.0
METHOD:PUBLISH
BEGIN:VEVENT
DTSTART:20251130T100000Z
DTEND:20251130T110000Z
LOCATION:Pfarrhaussäli\, Herrengasse 28\, 8213 Neunkirch
TRANSP:OPAQUE
SEQUENCE:0
UID:189546-veranstaltung@ref-sh.ch
DTSTAMP:20251022T122333Z
DESCRIPTION:Anschliessend an den Gottesdienst sind alle herzlich zu
  Kaffee\, Kuchen und Zopf im Pfarrhaussäli eingeladen.\n\nKontakt:
  sandra.voegeli@ref-sh.ch\n\nWeitere Infos:
  https://www.ref-sh.ch/veranstaltung/189546
SUMMARY:Kirchencafé
PRIORITY:5
X-MICROSOFT-CDO-IMPORTANCE:1
CLASS:PUBLIC
END:VEVENT
END:VCALENDAR
