BEGIN:VCALENDAR
PRODID:-//kirchenweb.ch gmbh//veranstaltungsausgabe v2.0//DE
VERSION:2.0
METHOD:PUBLISH
BEGIN:VEVENT
DTSTART:20260324T140000Z
DTEND:20260324T160000Z
LOCATION:Zwinglikirche\, Hochstr. 202\, 8200 Schaffhausen
TRANSP:OPAQUE
SEQUENCE:0
UID:189399-veranstaltung@ref-sh.ch
DTSTAMP:20260211T144420Z
DESCRIPTION:für Menschen 55+\, die in der Stadt \nSchaffhausen und
  Umgebung wohnen\n\nDieses Treffen beteiligt sich an der Aktionswoche
  gegen Rassismus.\nEs werden Programmpunkte der Aktionswoche vorgestellt.
 \nEs gibt einen interkulturellen Zvieri.\nGemütliches Zusammensein.\n\n
 \nWas ist HEKS AltuM "Alter und Migration"?\nEin Treffpunkt an einem
  Dienstag im Monat\, 15h bis 17h\n\n> Informationsveranstaltungen und
  persönliche Beratungen\n> Kontakte knüpfen\, sich austauschen\,
  gemütlich beisammensitzen \n> Sich an verschiedenen Aktivitäten und
  Kursen beteiligen \n\nEin Angebot von HEKS AltuM\, Geschäftsstelle
  ZH/SH\, welches als Pilotprojekt mit finanzieller Unterstützung der
  Evangelisch-reformierten Kirche des Kantons Schaffhausen durchgeführt
  wird. \nBeim Treffpunkt «Zwingli» treffen sich Migrantinnen und
  Migranten sowie Schweizer und Schweizerinnen mit Interesse an anderen
  Kulturen.\n\nEva Walter\, HEKS AltuM Programmleiterin\nSeminarstrasse
  28\, 8042 Zürich \nTel: 044 360 89 62\, E-Mail:
  http://eva.walter@heks.ch \n\nWeitere Daten:
  https://www.ref-sh.ch/altum-heks\n\nKontakt: Cristina Neuweiler-Donet\n
 \nWeitere Infos: https://www.ref-sh.ch/veranstaltung/189399
SUMMARY:Treffpunkt Zwingli: Alter und Migration AltuM
PRIORITY:5
X-MICROSOFT-CDO-IMPORTANCE:1
CLASS:PUBLIC
END:VEVENT
END:VCALENDAR
