BEGIN:VCALENDAR
PRODID:-//kirchenweb.ch gmbh//veranstaltungsausgabe v2.0//DE
VERSION:2.0
METHOD:PUBLISH
BEGIN:VEVENT
DTSTART:20260519T120000Z
DTEND:20260519T140000Z
LOCATION:Pavillon\, Nordstrasse 33\, 8200 Schaffhausen
TRANSP:OPAQUE
SEQUENCE:0
UID:189352-veranstaltung@ref-sh.ch
DTSTAMP:20251020T153047Z
DESCRIPTION:Auskunft: theres.hintsch@bluewin.ch\n\nKontakt: Theres Hintsch
 \n\nWeitere Infos: https://www.ref-sh.ch/veranstaltung/189352
SUMMARY:Malkurs
PRIORITY:5
X-MICROSOFT-CDO-IMPORTANCE:1
CLASS:PUBLIC
END:VEVENT
END:VCALENDAR
