BEGIN:VCALENDAR
PRODID:-//kirchenweb.ch gmbh//veranstaltungsausgabe v2.0//DE
VERSION:2.0
METHOD:PUBLISH
BEGIN:VEVENT
DTSTART:20260513T173000Z
DTEND:20260513T203000Z
LOCATION:Pfarrhaussäli\, Herrengasse 28\, 8213 Neunkirch
TRANSP:OPAQUE
SEQUENCE:0
UID:189320-veranstaltung@ref-sh.ch
DTSTAMP:20251020T153045Z
DESCRIPTION:Wer für seine Lieblingsbrettspiele daheim nicht genügend
  Mitspieler findet oder einfach gerne neue Spiele ausprobieren möchte\,
  ist bei diesem Anlass genau richtig.\nBeatrice Gasser und Andrea Meissner
  bringen Spiele mit und freuen sich auf einen geselligen Abend.\n
 \nKontakt: Beatrice Gasser\n\nWeitere Infos:
  https://www.ref-sh.ch/veranstaltung/189320
SUMMARY:Spieleabend
PRIORITY:5
X-MICROSOFT-CDO-IMPORTANCE:1
CLASS:PUBLIC
END:VEVENT
END:VCALENDAR
