BEGIN:VCALENDAR
PRODID:-//kirchenweb.ch gmbh//veranstaltungsausgabe v2.0//DE
VERSION:2.0
METHOD:PUBLISH
BEGIN:VEVENT
DTSTART:20260919T160000Z
DTEND:20260919T170000Z
LOCATION:St.Johann\, Kirchhofplatz\, 8200 Schaffhausen
TRANSP:OPAQUE
SEQUENCE:0
UID:189309-veranstaltung@ref-sh.ch
DTSTAMP:20260213T062542Z
DESCRIPTION:Die Feierliche Schlussveranstaltung des Chorfestes - alle
  Anwesenden sind eingeladen\, mitzusingen! \n\nKontakt: Pfarrerin Ute
  Nürnberg\n\nWeitere Infos: https://www.ref-sh.ch/veranstaltung/189309
SUMMARY:Mitsingfeier- Schlussveranstaltung des Chorfestes
PRIORITY:5
X-MICROSOFT-CDO-IMPORTANCE:1
CLASS:PUBLIC
END:VEVENT
END:VCALENDAR
