BEGIN:VCALENDAR
PRODID:-//kirchenweb.ch gmbh//veranstaltungsausgabe v2.0//DE
VERSION:2.0
METHOD:PUBLISH
BEGIN:VEVENT
DTSTART:20260514T073000Z
DTEND:20260514T083000Z
LOCATION:St.Johann\, Kirchhofplatz\, 8200 Schaffhausen
TRANSP:OPAQUE
SEQUENCE:0
UID:189306-veranstaltung@ref-sh.ch
DTSTAMP:20260331T144128Z
DESCRIPTION:Kantatengottesdienst im Rahmen des Internationalen Bachfestes
  mit dem Salto Corale\nIm Anschluss an den Gottesdienst Chilekafi\n
 \nKontakt: Pfarrerin Ute Nürnberg\n\nWeitere Infos:
  https://www.ref-sh.ch/veranstaltung/189306
SUMMARY:Gottesdienst an Auffahrt
PRIORITY:5
X-MICROSOFT-CDO-IMPORTANCE:1
CLASS:PUBLIC
END:VEVENT
END:VCALENDAR
