BEGIN:VCALENDAR
PRODID:-//kirchenweb.ch gmbh//veranstaltungsausgabe v2.0//DE
VERSION:2.0
METHOD:PUBLISH
BEGIN:VEVENT
DTSTART:20261231T170000Z
DTEND:20261231T180000Z
LOCATION:St.Johann\, Kirchhofplatz\, 8200 Schaffhausen
TRANSP:OPAQUE
SEQUENCE:0
UID:189303-veranstaltung@ref-sh.ch
DTSTAMP:20260325T114628Z
DESCRIPTION:Kontakt: Pfarrerin Stephanie Lemke\n\nWeitere Infos:
  https://www.ref-sh.ch/veranstaltung/189303
SUMMARY:Gottesdienst zum Jahreswechsel
PRIORITY:5
X-MICROSOFT-CDO-IMPORTANCE:1
CLASS:PUBLIC
END:VEVENT
END:VCALENDAR
